BEGIN:VCALENDAR
VERSION:2.0
PRODID:SchoolNow
CALSCALE:GREGORIAN
BEGIN:VEVENT
UID:5ccdc414-3426-11f1-9dd9-0a58a9feac02
DTSTAMP:20260410T175629Z
SUMMARY:Stoddard School Board Meeting
LOCATION:JFES Portable Classroom
URL;VALUE=URI:https://www.sau24.org/schools/jfes-us/calendar/8981645/stodda
 rd-school-board-meeting
DTSTART:20260413T220000Z
DTEND:20260414T000000Z
END:VEVENT
END:VCALENDAR
