BEGIN:VCALENDAR
VERSION:2.0
PRODID:SchoolNow
CALSCALE:GREGORIAN
BEGIN:VEVENT
UID:00372272-0389-11f1-8cfc-0265e1c2a3bd
DTSTAMP:20260206T182510Z
SUMMARY:Candidate Filing Period for the Stoddard School District
URL;VALUE=URI:https://www.sau24.org/schools/jfes-us/calendar/8850721/candid
 ate-filing-period-for-the-stoddard-school-district
DTSTART:20260213T210000Z
DTEND:20260213T220000Z
END:VEVENT
END:VCALENDAR
