BEGIN:VCALENDAR
VERSION:2.0
PRODID:SchoolNow
CALSCALE:GREGORIAN
BEGIN:VEVENT
UID:9acd583e-01d0-11f1-bfe2-0a58a9feac02
DTSTAMP:20260204T135128Z
SUMMARY:Stoddard School Board Meeting
URL;VALUE=URI:https://www.sau24.org/schools/jfes-us/calendar/8849256/stodda
 rd-school-board-meeting
DTSTART:20260205T230000Z
DTEND:20260205T233000Z
END:VEVENT
END:VCALENDAR
