BEGIN:VCALENDAR
VERSION:2.0
PRODID:SchoolNow
CALSCALE:GREGORIAN
BEGIN:VEVENT
UID:f7684d94-fabc-11f0-a580-0e637a4a0ca3
DTSTAMP:20260126T134316Z
SUMMARY:Stoddard School Board Meeting
LOCATION:JFES Portable Classroom
URL;VALUE=URI:https://www.sau24.org/schools/jfes-us/calendar/8840638/stodda
 rd-school-board-meeting
DTSTART:20260128T230000Z
DTEND:20260129T010000Z
ATTACH;FILENAME=January 28 Stoddard Board Meeting Flier.pdf;FMTTYPE=applica
 tion/pdf:https://campussuite-storage.s3.amazonaws.com/prod/1559211/e0a5197
 4-e007-11ee-9e0d-0a58a9feac02/3063888/c8cbb4d0-fabc-11f0-9e90-02e43978dd25
 /file/January 28 Stoddard Board Meeting Flier.pdf
END:VEVENT
END:VCALENDAR
