BEGIN:VCALENDAR
VERSION:2.0
PRODID:SchoolNow
CALSCALE:GREGORIAN
BEGIN:VEVENT
UID:7172ef10-e431-11f0-a8bd-0a58a9feac02
DTSTAMP:20260319T140324Z
SUMMARY:Stoddard School Board Meeting/Annual School District Meeting
LOCATION:James Faulkner Elementary School Portable Classroom (6pm) and Mult
 ipurpose Room (7pm)
URL;VALUE=URI:https://www.sau24.org/schools/jfes-us/calendar/8827543/stodda
 rd-school-board-meeting-annual-school-district-meeting
DTSTART:20260319T220000Z
DTEND:20260320T000000Z
END:VEVENT
END:VCALENDAR
