BEGIN:VCALENDAR
VERSION:2.0
PRODID:SchoolNow
CALSCALE:GREGORIAN
BEGIN:VEVENT
UID:8de97fea-e42e-11f0-86e3-02c003301ce9
DTSTAMP:20251228T204824Z
SUMMARY:Stoddard School Board Meeting/Public Hearing
LOCATION:JFES Multipurpose Room
URL;VALUE=URI:https://www.sau24.org/schools/jfes-us/calendar/8827535/stodda
 rd-school-board-meeting-public-hearing
DTSTART:20260212T230000Z
DTEND:20260213T010000Z
END:VEVENT
END:VCALENDAR
