BEGIN:VCALENDAR
VERSION:2.0
PRODID:SchoolNow
CALSCALE:GREGORIAN
BEGIN:VEVENT
UID:6fd1c014-e42c-11f0-a693-0a58a9feac02
DTSTAMP:20251228T203315Z
SUMMARY:Stoddard School District Board Meeting (1st Budget Preview)
LOCATION:JFES Portable Classroom
URL;VALUE=URI:https://www.sau24.org/schools/jfes-us/calendar/8827529/stodda
 rd-school-district-board-meeting-1st-budget-preview
DTSTART:20260105T230000Z
DTEND:20260106T010000Z
END:VEVENT
END:VCALENDAR
