BEGIN:VCALENDAR
VERSION:2.0
PRODID:SchoolNow
CALSCALE:GREGORIAN
BEGIN:VEVENT
UID:673f77ac-e42c-11f0-abd0-0e143c533c43
DTSTAMP:20251228T203301Z
SUMMARY:Stoddard School District - Budget Work Session
LOCATION:James Faulkner Elementary School - Portable Classroom
URL;VALUE=URI:https://www.sau24.org/schools/jfes-us/calendar/8827528/stodda
 rd-school-district-budget-work-session
DTSTART:20260105T210000Z
DTEND:20260105T223000Z
END:VEVENT
END:VCALENDAR
