BEGIN:VCALENDAR
VERSION:2.0
PRODID:SchoolNow
CALSCALE:GREGORIAN
BEGIN:VEVENT
UID:435860e2-c019-11f0-b15d-0e57bab87a9f
DTSTAMP:20251121T133519Z
SUMMARY:School Board Meeting
URL;VALUE=URI:https://www.sau24.org/schools/jfes-us/calendar/8792741/school
 -board-meeting
DTSTART:20270712T220000Z
DTEND:20270713T000000Z
END:VEVENT
END:VCALENDAR
