BEGIN:VCALENDAR
VERSION:2.0
PRODID:SchoolNow
CALSCALE:GREGORIAN
BEGIN:VEVENT
UID:a809f7da-b821-11f0-ab96-0e7b6e1bd647
DTSTAMP:20251121T133519Z
SUMMARY:Picture retake day
URL;VALUE=URI:https://www.sau24.org/schools/jfes-us/calendar/8769719/pictur
 e-retake-day
DTSTART;VALUE=DATE:20251107
DTEND;VALUE=DATE:20251108
END:VEVENT
END:VCALENDAR
