BEGIN:VCALENDAR
VERSION:2.0
PRODID:SchoolNow
CALSCALE:GREGORIAN
BEGIN:VEVENT
UID:31116c28-aadc-11f0-977e-0a58a9feac02
DTSTAMP:20251121T133519Z
SUMMARY:School Board Meeting
URL;VALUE=URI:https://www.sau24.org/schools/jfes-us/calendar/8727698/school
 -board-meeting
DTSTART:20270614T220000Z
DTEND:20270615T000000Z
END:VEVENT
END:VCALENDAR
