BEGIN:VCALENDAR
VERSION:2.0
PRODID:SchoolNow
CALSCALE:GREGORIAN
BEGIN:VEVENT
UID:31116548-aadc-11f0-946e-0a58a9feac02
DTSTAMP:20251121T133519Z
SUMMARY:Walk to school day 7:25
URL;VALUE=URI:https://www.sau24.org/schools/jfes-us/calendar/8727697/walk-t
 o-school-day-7-25
DTSTART;VALUE=DATE:20251023
DTEND;VALUE=DATE:20251024
END:VEVENT
END:VCALENDAR
