BEGIN:VCALENDAR
VERSION:2.0
PRODID:SchoolNow
CALSCALE:GREGORIAN
BEGIN:VEVENT
UID:1ebe5aca-a47b-11f0-bfdf-0a58a9feac02
DTSTAMP:20251121T133519Z
SUMMARY:Halloween Parade
URL;VALUE=URI:https://www.sau24.org/schools/jfes-us/calendar/8706038/hallow
 een-parade
DTSTART:20251031T164500Z
DTEND:20251031T174500Z
END:VEVENT
END:VCALENDAR
