BEGIN:VCALENDAR
VERSION:2.0
PRODID:SchoolNow
CALSCALE:GREGORIAN
BEGIN:VEVENT
UID:65c4bae8-9ee7-11f0-a1dd-0a58a9feac02
DTSTAMP:20251121T133519Z
SUMMARY:Enrollment Committee Mtg
URL;VALUE=URI:https://www.sau24.org/schools/jfes-us/calendar/8684137/enroll
 ment-committee-mtg
DTSTART:20251208T210000Z
DTEND:20251208T223000Z
END:VEVENT
END:VCALENDAR
