BEGIN:VCALENDAR
VERSION:2.0
PRODID:SchoolNow
CALSCALE:GREGORIAN
BEGIN:VEVENT
UID:65c4b8c2-9ee7-11f0-949f-0a58a9feac02
DTSTAMP:20251121T133519Z
SUMMARY:Enrollment Committee Mtg MP Room
URL;VALUE=URI:https://www.sau24.org/schools/jfes-us/calendar/8684136/enroll
 ment-committee-mtg-mp-room
DTSTART:20251006T200000Z
DTEND:20251006T213000Z
END:VEVENT
END:VCALENDAR
