BEGIN:VCALENDAR
VERSION:2.0
PRODID:SchoolNow
CALSCALE:GREGORIAN
BEGIN:VEVENT
UID:00c3b8a4-9327-11f0-88cb-0a58a9feac02
DTSTAMP:20251121T133519Z
SUMMARY:School Board Meeting
URL;VALUE=URI:https://www.sau24.org/schools/jfes-us/calendar/8628965/school
 -board-meeting
DTSTART:20270510T220000Z
DTEND:20270511T000000Z
END:VEVENT
END:VCALENDAR
