BEGIN:VCALENDAR
VERSION:2.0
PRODID:SchoolNow
CALSCALE:GREGORIAN
BEGIN:VEVENT
UID:00c3af6c-9327-11f0-9baf-0a58a9feac02
DTSTAMP:20251121T133519Z
SUMMARY:Trunk or Treat 6 p.m.
URL;VALUE=URI:https://www.sau24.org/schools/jfes-us/calendar/8628962/trunk-
 or-treat-6-p-m
DTSTART;VALUE=DATE:20251025
DTEND;VALUE=DATE:20251026
END:VEVENT
END:VCALENDAR
