BEGIN:VCALENDAR
VERSION:2.0
PRODID:SchoolNow
CALSCALE:GREGORIAN
BEGIN:VEVENT
UID:c0b75d1e-8436-11f0-9857-0a58a9feac02
DTSTAMP:20251121T133519Z
SUMMARY:JFES PTO meeting
URL;VALUE=URI:https://www.sau24.org/schools/jfes-us/calendar/8554286/jfes-p
 to-meeting
DTSTART:20260513T223000Z
DTEND:20260513T233000Z
END:VEVENT
END:VCALENDAR
