BEGIN:VCALENDAR
VERSION:2.0
PRODID:SchoolNow
CALSCALE:GREGORIAN
BEGIN:VEVENT
UID:c0b75a62-8436-11f0-88f4-0a58a9feac02
DTSTAMP:20251121T133519Z
SUMMARY:JFES PTO meeting
URL;VALUE=URI:https://www.sau24.org/schools/jfes-us/calendar/8554283/jfes-p
 to-meeting
DTSTART:20260211T233000Z
DTEND:20260212T003000Z
END:VEVENT
END:VCALENDAR
