BEGIN:VCALENDAR
VERSION:2.0
PRODID:SchoolNow
CALSCALE:GREGORIAN
BEGIN:VEVENT
UID:c0b75648-8436-11f0-89ca-0a58a9feac02
DTSTAMP:20251121T133519Z
SUMMARY:JFES PTO meeting
URL;VALUE=URI:https://www.sau24.org/schools/jfes-us/calendar/8554279/jfes-p
 to-meeting
DTSTART:20251015T223000Z
DTEND:20251015T233000Z
END:VEVENT
END:VCALENDAR
