BEGIN:VCALENDAR
VERSION:2.0
PRODID:SchoolNow
CALSCALE:GREGORIAN
BEGIN:VEVENT
UID:1b41792c-7d3e-11f0-b236-0affc5b7b4a9
DTSTAMP:20251121T133519Z
SUMMARY:School Board Meeting
URL;VALUE=URI:https://www.sau24.org/schools/jfes-us/calendar/8522608/school
 -board-meeting
DTSTART:20270412T220000Z
DTEND:20270413T000000Z
END:VEVENT
END:VCALENDAR
