BEGIN:VCALENDAR
VERSION:2.0
PRODID:SchoolNow
CALSCALE:GREGORIAN
BEGIN:VEVENT
UID:1b416ef0-7d3e-11f0-88e9-0affc5b7b4a9
DTSTAMP:20251121T133519Z
SUMMARY:1st PTO Mtg
URL;VALUE=URI:https://www.sau24.org/schools/jfes-us/calendar/8522605/1st-pt
 o-mtg
DTSTART:20250827T223000Z
DTEND:20250827T233000Z
END:VEVENT
END:VCALENDAR
