BEGIN:VCALENDAR
VERSION:2.0
PRODID:SchoolNow
CALSCALE:GREGORIAN
BEGIN:VEVENT
UID:9e985f3a-7315-11f0-9796-0a58a9feac02
DTSTAMP:20251121T133519Z
SUMMARY:Meet and greet
URL;VALUE=URI:https://www.sau24.org/schools/jfes-us/calendar/8477248/meet-a
 nd-greet
DTSTART:20250826T180000Z
DTEND:20250826T190000Z
END:VEVENT
END:VCALENDAR
