BEGIN:VCALENDAR
VERSION:2.0
PRODID:SchoolNow
CALSCALE:GREGORIAN
BEGIN:VEVENT
UID:74344eae-628d-11f0-b3e6-02df0a56a1ab
DTSTAMP:20251121T133519Z
SUMMARY:School Board Meeting
URL;VALUE=URI:https://www.sau24.org/schools/jfes-us/calendar/8420781/school
 -board-meeting
DTSTART:20270308T230000Z
DTEND:20270309T010000Z
END:VEVENT
END:VCALENDAR
