BEGIN:VCALENDAR
VERSION:2.0
PRODID:SchoolNow
CALSCALE:GREGORIAN
BEGIN:VEVENT
UID:74344a1c-628d-11f0-9e66-02df0a56a1ab
DTSTAMP:20251121T133519Z
SUMMARY:School Board/Principal Candidates
URL;VALUE=URI:https://www.sau24.org/schools/jfes-us/calendar/8420779/school
 -board-principal-candidates
DTSTART:20250728T220000Z
DTEND:20250728T230000Z
END:VEVENT
END:VCALENDAR
