BEGIN:VCALENDAR
VERSION:2.0
PRODID:SchoolNow
CALSCALE:GREGORIAN
BEGIN:VEVENT
UID:7434465c-628d-11f0-9085-02df0a56a1ab
DTSTAMP:20251121T133519Z
SUMMARY:Candidate Forum for Principal
URL;VALUE=URI:https://www.sau24.org/schools/jfes-us/calendar/8420778/candid
 ate-forum-for-principal
DTSTART:20250724T223000Z
DTEND:20250724T233000Z
END:VEVENT
END:VCALENDAR
