BEGIN:VCALENDAR
VERSION:2.0
PRODID:SchoolNow
CALSCALE:GREGORIAN
BEGIN:VEVENT
UID:62a02a76-624e-11f0-9886-0210512b0f9d
DTSTAMP:20250716T140845Z
SUMMARY:Stoddard School Board Meeting
LOCATION:James Faulkner Elementary School (Multipurpose Room)
URL;VALUE=URI:https://www.sau24.org/schools/jfes-us/calendar/8419823/stodda
 rd-school-board-meeting
DTSTART:20250728T220000Z
DTEND:20250729T000000Z
END:VEVENT
END:VCALENDAR
