BEGIN:VCALENDAR
VERSION:2.0
PRODID:SchoolNow
CALSCALE:GREGORIAN
BEGIN:VEVENT
UID:1b52e190-55ce-11f0-86fa-0a58a9feac02
DTSTAMP:20251121T133519Z
SUMMARY:Projected last day
URL;VALUE=URI:https://www.sau24.org/schools/jfes-us/calendar/8370057/projec
 ted-last-day
DTSTART;VALUE=DATE:20260612
DTEND;VALUE=DATE:20260613
END:VEVENT
END:VCALENDAR
