BEGIN:VCALENDAR
VERSION:2.0
PRODID:SchoolNow
CALSCALE:GREGORIAN
BEGIN:VEVENT
UID:1b52e028-55ce-11f0-a83e-0a58a9feac02
DTSTAMP:20251121T133519Z
SUMMARY:Memorial Day no school
URL;VALUE=URI:https://www.sau24.org/schools/jfes-us/calendar/8370056/memori
 al-day-no-school
DTSTART;VALUE=DATE:20260525
DTEND;VALUE=DATE:20260526
END:VEVENT
END:VCALENDAR
