BEGIN:VCALENDAR
VERSION:2.0
PRODID:SchoolNow
CALSCALE:GREGORIAN
BEGIN:VEVENT
UID:1b52d6c8-55ce-11f0-ae1a-0a58a9feac02
DTSTAMP:20251121T133519Z
SUMMARY:Spring break no school
URL;VALUE=URI:https://www.sau24.org/schools/jfes-us/calendar/8370054/spring
 -break-no-school
DTSTART;VALUE=DATE:20260427
DTEND;VALUE=DATE:20260502
END:VEVENT
END:VCALENDAR
