BEGIN:VCALENDAR
VERSION:2.0
PRODID:SchoolNow
CALSCALE:GREGORIAN
BEGIN:VEVENT
UID:1b52d59c-55ce-11f0-839f-0a58a9feac02
DTSTAMP:20251121T133519Z
SUMMARY:Teacher workshop no school
URL;VALUE=URI:https://www.sau24.org/schools/jfes-us/calendar/8370053/teache
 r-workshop-no-school
DTSTART;VALUE=DATE:20260320
DTEND;VALUE=DATE:20260321
END:VEVENT
END:VCALENDAR
