BEGIN:VCALENDAR
VERSION:2.0
PRODID:SchoolNow
CALSCALE:GREGORIAN
BEGIN:VEVENT
UID:1b52d4b6-55ce-11f0-bf55-0a58a9feac02
DTSTAMP:20251121T133519Z
SUMMARY:Winter break no school
URL;VALUE=URI:https://www.sau24.org/schools/jfes-us/calendar/8370052/winter
 -break-no-school
DTSTART;VALUE=DATE:20260223
DTEND;VALUE=DATE:20260228
END:VEVENT
END:VCALENDAR
