BEGIN:VCALENDAR
VERSION:2.0
PRODID:SchoolNow
CALSCALE:GREGORIAN
BEGIN:VEVENT
UID:1b52d3c6-55ce-11f0-b89c-0a58a9feac02
DTSTAMP:20251121T133519Z
SUMMARY:Early release 12:10
URL;VALUE=URI:https://www.sau24.org/schools/jfes-us/calendar/8370051/early-
 release-12-10
DTSTART;VALUE=DATE:20260212
DTEND;VALUE=DATE:20260213
END:VEVENT
END:VCALENDAR
