BEGIN:VCALENDAR
VERSION:2.0
PRODID:SchoolNow
CALSCALE:GREGORIAN
BEGIN:VEVENT
UID:1b52d2d6-55ce-11f0-9af9-0a58a9feac02
DTSTAMP:20251121T133519Z
SUMMARY:Civil Rights Day no school
URL;VALUE=URI:https://www.sau24.org/schools/jfes-us/calendar/8370050/civil-
 rights-day-no-school
DTSTART;VALUE=DATE:20260119
DTEND;VALUE=DATE:20260120
END:VEVENT
END:VCALENDAR
