BEGIN:VCALENDAR
VERSION:2.0
PRODID:SchoolNow
CALSCALE:GREGORIAN
BEGIN:VEVENT
UID:1b52d1e6-55ce-11f0-a755-0a58a9feac02
DTSTAMP:20251121T133519Z
SUMMARY:Holiday break no school
URL;VALUE=URI:https://www.sau24.org/schools/jfes-us/calendar/8370049/holida
 y-break-no-school
DTSTART;VALUE=DATE:20251224
DTEND;VALUE=DATE:20260103
END:VEVENT
END:VCALENDAR
