BEGIN:VCALENDAR
VERSION:2.0
PRODID:SchoolNow
CALSCALE:GREGORIAN
BEGIN:VEVENT
UID:1b52cf84-55ce-11f0-9f19-0a58a9feac02
DTSTAMP:20251121T133519Z
SUMMARY:No school Thanksgiving Break
URL;VALUE=URI:https://www.sau24.org/schools/jfes-us/calendar/8370047/no-sch
 ool-thanksgiving-break
DTSTART;VALUE=DATE:20251126
DTEND;VALUE=DATE:20251129
END:VEVENT
END:VCALENDAR
