BEGIN:VCALENDAR
VERSION:2.0
PRODID:SchoolNow
CALSCALE:GREGORIAN
BEGIN:VEVENT
UID:1b52ce8a-55ce-11f0-aa07-0a58a9feac02
DTSTAMP:20251121T133519Z
SUMMARY:No school Veterans Day
URL;VALUE=URI:https://www.sau24.org/schools/jfes-us/calendar/8370046/no-sch
 ool-veterans-day
DTSTART;VALUE=DATE:20251111
DTEND;VALUE=DATE:20251112
END:VEVENT
END:VCALENDAR
