BEGIN:VCALENDAR
VERSION:2.0
PRODID:SchoolNow
CALSCALE:GREGORIAN
BEGIN:VEVENT
UID:1b52cc6e-55ce-11f0-84b6-0a58a9feac02
DTSTAMP:20251121T133519Z
SUMMARY:No school
URL;VALUE=URI:https://www.sau24.org/schools/jfes-us/calendar/8370044/no-sch
 ool
DTSTART;VALUE=DATE:20251013
DTEND;VALUE=DATE:20251014
END:VEVENT
END:VCALENDAR
