BEGIN:VCALENDAR
VERSION:2.0
PRODID:SchoolNow
CALSCALE:GREGORIAN
BEGIN:VEVENT
UID:1b52cb56-55ce-11f0-9e72-0a58a9feac02
DTSTAMP:20251121T133519Z
SUMMARY:Early Release 12:10
URL;VALUE=URI:https://www.sau24.org/schools/jfes-us/calendar/8370043/early-
 release-12-10
DTSTART;VALUE=DATE:20251010
DTEND;VALUE=DATE:20251011
END:VEVENT
END:VCALENDAR
