BEGIN:VCALENDAR
VERSION:2.0
PRODID:SchoolNow
CALSCALE:GREGORIAN
BEGIN:VEVENT
UID:1b52ca16-55ce-11f0-a7c9-0a58a9feac02
DTSTAMP:20251121T133519Z
SUMMARY:School budget voting
URL;VALUE=URI:https://www.sau24.org/schools/jfes-us/calendar/8370042/school
 -budget-voting
DTSTART:20260319T230000Z
DTEND:20260320T000000Z
END:VEVENT
END:VCALENDAR
