BEGIN:VCALENDAR
VERSION:2.0
PRODID:SchoolNow
CALSCALE:GREGORIAN
BEGIN:VEVENT
UID:1b52c5f2-55ce-11f0-96e5-0a58a9feac02
DTSTAMP:20251121T133519Z
SUMMARY:School Budget hearing
URL;VALUE=URI:https://www.sau24.org/schools/jfes-us/calendar/8370041/school
 -budget-hearing
DTSTART:20260213T000000Z
DTEND:20260213T010000Z
END:VEVENT
END:VCALENDAR
