BEGIN:VCALENDAR
VERSION:2.0
PRODID:SchoolNow
CALSCALE:GREGORIAN
BEGIN:VEVENT
UID:ef813c8e-4578-11f0-8029-0a58a9feac02
DTSTAMP:20251121T133519Z
SUMMARY:School Board Meeting
URL;VALUE=URI:https://www.sau24.org/schools/jfes-us/calendar/8276512/school
 -board-meeting
DTSTART:20270208T230000Z
DTEND:20270209T010000Z
END:VEVENT
END:VCALENDAR
