BEGIN:VCALENDAR
VERSION:2.0
PRODID:SchoolNow
CALSCALE:GREGORIAN
BEGIN:VEVENT
UID:e3ad92e4-328c-11f0-baa8-0a58a9feac02
DTSTAMP:20251121T133519Z
SUMMARY:School Board Meeting
URL;VALUE=URI:https://www.sau24.org/schools/jfes-us/calendar/8146923/school
 -board-meeting
DTSTART:20270111T230000Z
DTEND:20270112T010000Z
END:VEVENT
END:VCALENDAR
