BEGIN:VCALENDAR
VERSION:2.0
PRODID:SchoolNow
CALSCALE:GREGORIAN
BEGIN:VEVENT
UID:76518556-2798-11f0-9851-0a58a9feac02
DTSTAMP:20251121T133519Z
SUMMARY:School Board Meeting
URL;VALUE=URI:https://www.sau24.org/schools/jfes-us/calendar/8054189/school
 -board-meeting
DTSTART:20261214T230000Z
DTEND:20261215T010000Z
END:VEVENT
END:VCALENDAR
