BEGIN:VCALENDAR
VERSION:2.0
PRODID:SchoolNow
CALSCALE:GREGORIAN
BEGIN:VEVENT
UID:7651825e-2798-11f0-8a42-0a58a9feac02
DTSTAMP:20251121T133519Z
SUMMARY:First Day of School
URL;VALUE=URI:https://www.sau24.org/schools/jfes-us/calendar/8054187/first-
 day-of-school
DTSTART;VALUE=DATE:20250827
DTEND;VALUE=DATE:20250828
END:VEVENT
END:VCALENDAR
