BEGIN:VCALENDAR
VERSION:2.0
PRODID:SchoolNow
CALSCALE:GREGORIAN
BEGIN:VEVENT
UID:76517ef8-2798-11f0-b576-0a58a9feac02
DTSTAMP:20251121T133519Z
SUMMARY:Labor Day - No school
URL;VALUE=URI:https://www.sau24.org/schools/jfes-us/calendar/8054186/labor-
 day-no-school
DTSTART;VALUE=DATE:20250901
DTEND;VALUE=DATE:20250902
END:VEVENT
END:VCALENDAR
