BEGIN:VCALENDAR
VERSION:2.0
PRODID:SchoolNow
CALSCALE:GREGORIAN
BEGIN:VEVENT
UID:054a0770-f534-11ef-8c73-0a58a9feac02
DTSTAMP:20251121T133519Z
SUMMARY:School Board Meeting
URL;VALUE=URI:https://www.sau24.org/schools/jfes-us/calendar/7562071/school
 -board-meeting
DTSTART:20261012T220000Z
DTEND:20261013T000000Z
END:VEVENT
END:VCALENDAR
