BEGIN:VCALENDAR
VERSION:2.0
PRODID:SchoolNow
CALSCALE:GREGORIAN
BEGIN:VEVENT
UID:e5ec6e1e-e3df-11ef-b57a-0a58a9feac02
DTSTAMP:20251121T133519Z
SUMMARY:School Board Meeting
URL;VALUE=URI:https://www.sau24.org/schools/jfes-us/calendar/7426640/school
 -board-meeting
DTSTART:20260914T220000Z
DTEND:20260915T000000Z
END:VEVENT
END:VCALENDAR
