BEGIN:VCALENDAR
VERSION:2.0
PRODID:SchoolNow
CALSCALE:GREGORIAN
BEGIN:VEVENT
UID:37e0d000-ca2e-11ef-b485-0e4206814cd1
DTSTAMP:20251121T133519Z
SUMMARY:School Board Meeting
URL;VALUE=URI:https://www.sau24.org/schools/jfes-us/calendar/7264093/school
 -board-meeting
DTSTART:20260810T220000Z
DTEND:20260811T000000Z
END:VEVENT
END:VCALENDAR
