BEGIN:VCALENDAR
VERSION:2.0
PRODID:SchoolNow
CALSCALE:GREGORIAN
BEGIN:VEVENT
UID:37e0caf6-ca2e-11ef-8331-0e4206814cd1
DTSTAMP:20251121T133519Z
SUMMARY:School Board Meeting
URL;VALUE=URI:https://www.sau24.org/schools/jfes-us/calendar/7264087/school
 -board-meeting
DTSTART:20260212T230000Z
DTEND:20260213T000000Z
END:VEVENT
END:VCALENDAR
